BEGIN:VCALENDAR
METHOD:PUBLISH
PRODID:-//github.com/rianjs/ical.net//NONSGML ical.net 4.0//EN
URL:https://www.essexstudent.com/ents/event/ics/35060/
VERSION:2.0
X-PUBLISHED-TTL:PT1H
X-WR-CALNAME:TAS Weekly Workshop (35060)
BEGIN:VTIMEZONE
TZID:GMT Standard Time
X-LIC-LOCATION:Europe/London
BEGIN:STANDARD
DTSTART:20241027T020000
RRULE:FREQ=YEARLY;BYDAY=4SU;BYMONTH=10
TZNAME:GMT
TZOFFSETFROM:+0100
TZOFFSETTO:+0000
END:STANDARD
BEGIN:DAYLIGHT
DTSTART:20250330T010000
RRULE:FREQ=YEARLY;BYDAY=-1SU;BYMONTH=3
TZNAME:BST
TZOFFSETFROM:+0000
TZOFFSETTO:+0100
END:DAYLIGHT
END:VTIMEZONE
BEGIN:VEVENT
CATEGORIES:Society Event
CREATED:20250918T012620
DESCRIPTION:https://www.essexstudent.com/events/7226/35060/\n
DTEND:20260602T203000
DTSTAMP:20260419T203824Z
DTSTART:20260602T183000
LAST-MODIFIED:20250918T012755
LOCATION:5S.4.5
SEQUENCE:0
SUMMARY:TAS Weekly Workshop
UID:2eff9c6c-9a0c-450a-838e-e714270ef309
URL:https://www.essexstudent.com/events/7226/35060/
X-ALT-DESC;FMTTYPE=text/html:<html><head><base href="https://www.essexstud
 ent.com"></head><body><p>https://www.essexstudent.com/events/7226/35060/<
 /p>\n</body></html>
END:VEVENT
END:VCALENDAR
