BEGIN:VCALENDAR
METHOD:PUBLISH
PRODID:-//github.com/rianjs/ical.net//NONSGML ical.net 4.0//EN
URL:https://www.essexstudent.com/ents/event/ics/36938/
VERSION:2.0
X-PUBLISHED-TTL:PT1H
X-WR-CALNAME:JAF Campus Fellowship (36938)
BEGIN:VTIMEZONE
TZID:GMT Standard Time
X-LIC-LOCATION:Europe/London
BEGIN:STANDARD
DTSTART:20241027T020000
RRULE:FREQ=YEARLY;BYDAY=4SU;BYMONTH=10
TZNAME:GMT
TZOFFSETFROM:+0100
TZOFFSETTO:+0000
END:STANDARD
BEGIN:DAYLIGHT
DTSTART:20250330T010000
RRULE:FREQ=YEARLY;BYDAY=-1SU;BYMONTH=3
TZNAME:BST
TZOFFSETFROM:+0000
TZOFFSETTO:+0100
END:DAYLIGHT
END:VTIMEZONE
BEGIN:VEVENT
CREATED:20260418T144031
DESCRIPTION:A time of Worship\, Fellowship\, Bible study and Prayer for al
 l!\n\nhttps://www.essexstudent.com/events/6810/36938/\n
DTEND:20260429T210000
DTSTAMP:20260425T173327Z
DTSTART:20260429T190000
LAST-MODIFIED:20260421T144210
LOCATION:TC1.8
SEQUENCE:0
SUMMARY:JAF Campus Fellowship
UID:70829025-0e90-4534-9990-7f640a4222ed
URL:https://www.essexstudent.com/events/6810/36938/
X-ALT-DESC;FMTTYPE=text/html:<html><head><base href="https://www.essexstud
 ent.com"></head><body><p>A time of Worship\, Fellowship\, Bible study and
  Prayer for all!</p><p>https://www.essexstudent.com/events/6810/36938/</p
 >\n<p>Jesus Alive Fellowship is a family of believers based in The Univer
 sity of Essex\, Colchester. We gather every Wednesday from 7pm-9pm in TC1
 .8 to worship together and break down the Word with one goal-to lift Jesu
 s high!</p>\n\n<p>&nbsp\;</p>\n\n<p>Our Vision for this year is based on 
 Acts 2:46-</p>\n\n<p>&nbsp\;</p>\n\n<p>47 and our 3 key themes are:</p>\n
 \n<p>&nbsp\;</p>\n\n<p>COMMUNITY</p>\n\n<p>&nbsp\;</p>\n\n<p>GRACE</p>\n\
 n<p>&nbsp\;</p>\n\n<p>FRUITFULNESS</p>\n\n<p>&nbsp\;</p>\n\n<p>We want to
  create a culture where people walk in unity with the Father and can come
  to JAF for sound and solid teaching to guide them\, we also want to be p
 eople who demonstrate Christ to the world\, His character\, His compassio
 n and His heart.</p></body></html>
END:VEVENT
END:VCALENDAR
