BEGIN:VCALENDAR
METHOD:PUBLISH
PRODID:-//github.com/rianjs/ical.net//NONSGML ical.net 4.0//EN
URL:https://www.essexstudent.com/ents/event/ics/36949/
VERSION:2.0
X-PUBLISHED-TTL:PT1H
X-WR-CALNAME:Free Games Night (36949)
BEGIN:VTIMEZONE
TZID:GMT Standard Time
X-LIC-LOCATION:Europe/London
BEGIN:STANDARD
DTSTART:20241027T020000
RRULE:FREQ=YEARLY;BYDAY=4SU;BYMONTH=10
TZNAME:GMT
TZOFFSETFROM:+0100
TZOFFSETTO:+0000
END:STANDARD
BEGIN:DAYLIGHT
DTSTART:20250330T010000
RRULE:FREQ=YEARLY;BYDAY=-1SU;BYMONTH=3
TZNAME:BST
TZOFFSETFROM:+0000
TZOFFSETTO:+0100
END:DAYLIGHT
END:VTIMEZONE
BEGIN:VEVENT
CATEGORIES:Society Event
CREATED:20260420T140057
DESCRIPTION:Make your move!\n\nhttps://www.essexstudent.com/events/25805/3
 6949/\n
DTEND:20260506T200000
DTSTAMP:20260420T174820Z
DTSTART:20260506T180000
LAST-MODIFIED:20260420T143736
LOCATION:3.105
SEQUENCE:0
SUMMARY:Free Games Night
UID:a197d7a5-873f-4912-b36a-e9e9cdc1baf3
URL:https://www.essexstudent.com/events/25805/36949/
X-ALT-DESC;FMTTYPE=text/html:<html><head><base href="https://www.essexstud
 ent.com"></head><body><p>Make your move!</p><p>https://www.essexstudent.c
 om/events/25805/36949/</p>\n<p>Welcome back to UOE! If you haven&rsquo\;t
  met us already\, now&rsquo\;s your chance to make your move.</p></body><
 /html>
END:VEVENT
END:VCALENDAR
